BEGIN:VCALENDAR
VERSION:2.0
CALSCALE:GREGORIAN
PRODID:adamgibbons/ics
METHOD:PUBLISH
X-PUBLISHED-TTL:PT1H
BEGIN:VEVENT
UID:13889@tramuntana.convoca.la
SUMMARY:ACTE POLÍTIC CAP A L'1 DE MAIG: LA JOVENTUT TREBALLADORA PLANTEM CA
	RA A LA GUERRA I EL FEIXISME
DTSTAMP:20260423T130403Z
DTSTART:20260426T090000Z
DTEND:20260426T120000Z
DESCRIPTION:Aquest diumenge 26 d’abril l’Organització Juvenil Socialista (O
	JS) organitzem a\nGirona un acte previ a la mobilització de l’1 de maig.\n
	\n\nAquest 1 de maig tornem a situar l'organització de la classe treballad
	ora sota\nl'estratègia socialista com a l'única alternativa possible davan
	t del món en\ncrisi que vivim\, i deixem clar que la joventut treballadora
	 estarem a primera\nlínia contra la reacció\, el feixisme i la guerra impe
	rialista.\n\n\nDiumenge 26 d’abril a les 11:00 h realitzarem una xerrada\,
	 i a les 12:00 h\ngaudirem d’un espai d’oci musical amb un Sound System a 
	càrrec de Feel Free\nSalt\, al Parc del Migdia de Girona.\n\nUs esperem!\n
	\nPlantem cara a la guerra i el feixisme\, construïm l’alternativa revoluc
	ionària!\n\n📆 Diumenge 26 d'abril a les 11 h\, al Parc del Migdia.
URL:https://tramuntana.convoca.la/event/acte-politic-cap-a-l1-de-maig-la-jo
	ventut-treballadora-plantem-cara-a-la-guerra-i-el-feixisme
GEO:41.9733515;2.8179948
LOCATION:Parc del Migdia - Eixample\, Girona\, Gironès\, Girona\, Catalunya
	\, España
STATUS:CONFIRMED
CATEGORIES:
X-ALT-DESC;FMTTYPE=text/html:<p>Aquest diumenge 26 d’abril l’Organització J
	uvenil Socialista (OJS) organitzem a Girona un <strong>acte previ a la mob
	ilització de l’1 de maig</strong>.<br></p><p>Aquest 1 de maig tornem a sit
	uar <strong>l'organització de la classe treballadora sota l'estratègia soc
	ialista com a l'única alternativa possible</strong> davant del món en cris
	i que vivim, i deixem clar que <strong>la joventut treballadora estarem a 
	primera línia contra la reacció, el feixisme i la guerra imperialista</str
	ong>.</p><p><br>Diumenge 26 d’abril a les 11:00 h realitzarem una xerrada,
	 i a les 12:00 h gaudirem d’un espai d’oci musical amb un Sound System a c
	àrrec de Feel Free Salt, al Parc del Migdia de Girona.<br><br>Us esperem!<
	br><br><strong>Plantem cara a la guerra i el feixisme, construïm l’alterna
	tiva revolucionària!</strong><br><br>📆 <strong>Diumenge 26 d'abril a les 1
	1 h, al Parc del Migdia.</strong></p>
BEGIN:VALARM
ACTION:DISPLAY
DESCRIPTION:ACTE POLÍTIC CAP A L'1 DE MAIG: LA JOVENTUT TREBALLADORA PLANTE
	M CARA A LA GUERRA I EL FEIXISME
TRIGGER:-PT1H
END:VALARM
END:VEVENT
END:VCALENDAR
