BEGIN:VCALENDAR
VERSION:2.0
CALSCALE:GREGORIAN
PRODID:adamgibbons/ics
METHOD:PUBLISH
X-PUBLISHED-TTL:PT1H
BEGIN:VEVENT
UID:13891@tramuntana.convoca.la
SUMMARY:Concentració contra el desnonament de l'antiga fàbrica Simon i la m
	asia de Cal Gras
DTSTAMP:20260424T172930Z
DTSTART:20260427T160000Z
DTEND:20260427T170000Z
DESCRIPTION:GARANTIM UN HABITATGE PER TOTHOM\n\nDiferents col·lectius\, ent
	itats i organitzacions de Girona impulsem aquest\nmanifest per donar una r
	esposta col·lectiva al desnonament de més d’un centenar\nde persones de l'
	antiga fàbrica Simon\, a la carretera Barcelona\, i de la masia\nde Cal Gr
	as\, a les hortes de Santa Eugènia.\n\nActualment\, l'Ajuntament de Girona
	 ha donat 8 dies als resident de la fàbrica\nper marxar voluntàriament\, a
	mb conseqüències penals i policials si no ho fan.\nPer això\, convoquem aq
	uesta concentració per garantir una alternativa als\nresidents. Desnonar s
	ense alternativa\, només agreuja el problema!\n\nSIGNA EL MANIFEST: https:
	//forms.gle/cMpDiKjPQjnxt5Ro7\n[https://forms.gle/cMpDiKjPQjnxt5Ro7]
URL:https://tramuntana.convoca.la/event/concentracio-contra-el-desnonament-
	de-lantiga-fabrica-simon-i-la-masia-de-cal-gras
GEO:41.9830588;2.8245671617023786
LOCATION:Plaça del Vi - Plaça del Vi\, Barri Vell\, Girona\, Gironès\, Giro
	na\, España
STATUS:CONFIRMED
CATEGORIES:
X-ALT-DESC;FMTTYPE=text/html:<p>GARANTIM UN HABITATGE PER TOTHOM</p><p>Dife
	rents col·lectius, entitats i organitzacions de Girona impulsem aquest man
	ifest per donar una resposta col·lectiva al desnonament de més d’un centen
	ar de persones de l'antiga fàbrica Simon, a la carretera Barcelona, i de l
	a masia de Cal Gras, a les hortes de Santa Eugènia.</p><p>Actualment, l'Aj
	untament de Girona ha donat 8 dies als resident de la fàbrica per marxar v
	oluntàriament, amb conseqüències penals i policials si no ho fan. Per això
	, convoquem aquesta concentració per garantir una alternativa als resident
	s. Desnonar sense alternativa, només agreuja el problema!</p><p>SIGNA EL M
	ANIFEST: <a target="_blank" href="https://forms.gle/cMpDiKjPQjnxt5Ro7">htt
	ps://forms.gle/cMpDiKjPQjnxt5Ro7</a></p>
BEGIN:VALARM
ACTION:DISPLAY
DESCRIPTION:Concentració contra el desnonament de l'antiga fàbrica Simon i 
	la masia de Cal Gras
TRIGGER:-PT1H
END:VALARM
END:VEVENT
END:VCALENDAR
