BEGIN:VCALENDAR
VERSION:2.0
CALSCALE:GREGORIAN
PRODID:adamgibbons/ics
METHOD:PUBLISH
X-PUBLISHED-TTL:PT1H
BEGIN:VEVENT
UID:13884@tramuntana.convoca.la
SUMMARY:Sant Jordi per la llengua
DTSTAMP:20260420T124407Z
DTSTART:20260423T170000Z
DESCRIPTION:Tornem a sortir als carrers per la llengua\, i enguany ho fem a
	 diferents punts\ndel territori perquè les ofensives lingüístiques es done
	n arreu\, i per tant cal\nque hi plantem cara plegades.\n\nLlegeix el mani
	fest i reivindicacions al nostre web santjordiperlallengua.cat\n[http://sa
	ntjordiperlallengua.cat] i comparteix la teva convocatòria per fer\nd'aque
	sta diada\, un dia de reivindicació i organització popular.\n\n✊️ Aquest Sa
	nt Jordi\, llibre\, rosa i mani!
URL:https://tramuntana.convoca.la/event/sant-jordi-per-la-llengua
LOCATION:Davant Correus - Avinguda Ramón Folch
STATUS:CONFIRMED
CATEGORIES:Girona,català,defensem la llengua,Sant Jordi per la llengua
X-ALT-DESC;FMTTYPE=text/html:<p>Tornem a sortir als carrers per la llengua,
	 i enguany ho fem a diferents punts del territori perquè les ofensives lin
	güístiques es donen arreu, i per tant cal que hi plantem cara plegades.<br
	><br>Llegeix el manifest i reivindicacions al nostre web <a target="_blank
	" href="http://santjordiperlallengua.cat">santjordiperlallengua.cat</a> i 
	comparteix la teva convocatòria per fer d'aquesta diada, un dia de reivind
	icació i organització popular.<br><br>✊️ Aquest Sant Jordi, llibre, rosa i 
	mani!</p>
BEGIN:VALARM
ACTION:DISPLAY
DESCRIPTION:Sant Jordi per la llengua
TRIGGER:-PT1H
END:VALARM
END:VEVENT
END:VCALENDAR
