BEGIN:VCALENDAR
VERSION:2.0
CALSCALE:GREGORIAN
PRODID:adamgibbons/ics
METHOD:PUBLISH
X-PUBLISHED-TTL:PT1H
BEGIN:VEVENT
UID:13882@tramuntana.convoca.la
SUMMARY:Vincles. Compratim el català.
DTSTAMP:20260420T164521Z
DTSTART:20260420T150000Z
DESCRIPTION:Ja és aquí el grup de Vincles de l'Ateneu Salvadora Catà. Un es
	pai per compartir\ni aprendre el català de manera distesa i divertida. Ten
	s ganes d'aprendre'l o\nsaps d'algú que en tingui ganes? Comparteix-ho !!!
	 Ens veiem els dilluns a les 5\ni els dimecres a les 6 de la tarda!! 😁💬
URL:https://tramuntana.convoca.la/event/vincles-compratim-el-catala
GEO:41.9832563;2.8222962
LOCATION:Ateneu Popular Salvadora Catà - Plaça Josep Pla 1. Girona
STATUS:CONFIRMED
CATEGORIES:Ateneu Popular Salvadora Catà,Girona,català,Ommnium,Omnium Cultu
	ral,llengua,defensem la llengua
X-ALT-DESC;FMTTYPE=text/html:<p>Ja és aquí el grup de Vincles de l'Ateneu S
	alvadora Catà. Un espai per compartir i aprendre el català de manera diste
	sa i divertida. Tens ganes d'aprendre'l o saps d'algú que en tingui ganes?
	 Comparteix-ho !!! Ens veiem els dilluns a les 5 i els dimecres a les 6 de
	 la tarda!! 😁💬</p>
BEGIN:VALARM
ACTION:DISPLAY
DESCRIPTION:Vincles. Compratim el català.
TRIGGER:-PT1H
END:VALARM
END:VEVENT
END:VCALENDAR
