BEGIN:VCALENDAR
VERSION:2.0
CALSCALE:GREGORIAN
PRODID:adamgibbons/ics
METHOD:PUBLISH
X-PUBLISHED-TTL:PT1H
BEGIN:VEVENT
UID:11840@tramuntana.convoca.la
SUMMARY:Reclaim The Theatre - The Nerve. Il Cabaret Queer di Torino
DTSTAMP:20260420T180347Z
DTSTART:20260516T190000Z
DTEND:20260516T215500Z
URL:https://tramuntana.convoca.la/event/reclaim-the-theatre-the-nerve-il-ca
	baret-queer-di-torino
GEO:45.05913645;7.64905084663742
LOCATION:Csoa Gabrio - Via Millio 42\, Torino
STATUS:CONFIRMED
CATEGORIES:Spettacolo teatrale,reclaim the theatre
END:VEVENT
BEGIN:VEVENT
UID:11841@tramuntana.convoca.la
SUMMARY:Reclaim The Theatre - Fraciche D'asporto. Queer Commedy Show
DTSTAMP:20260420T180347Z
DTSTART:20260523T190000Z
DTEND:20260523T215500Z
URL:https://tramuntana.convoca.la/event/reclaim-the-theatre-fraciche-daspor
	to-queer-commedy-show
GEO:45.05913645;7.64905084663742
LOCATION:Csoa Gabrio - Via Millio 42\, Torino
STATUS:CONFIRMED
CATEGORIES:Spettacolo teatrale,reclaim the theatre
END:VEVENT
END:VCALENDAR
